Workbook

Sheet チェックシート
A2: 建設リサイクル法に基づく届出の電子申請に係るチェックシート
A3: 電子申請でよくある修正指示等事項をお示しします。 電子申請時に本チェックシートの提出は不要ですが、申請前の自己点検として御活用ください。 | M3: FALSE
A4: チェック項目 | L4: チェック欄
A5: １．様式第一号及び別表について
A6: ・ 電子申請専用ファイル「届出書（京都府・市町村共同電子申請サービス）.xlsx」を使用している。 | M6: FALSE
A7: ・ 「入力フォーム」及び「別表」シートに黄色セルがなく、必要事項を全て入力している。 | M7: FALSE
A9: ２．電子申請専用ファイルの「入力フォーム」シートについて
A10: 【１】届出日
A11: ・ 届出日は、電子申請を行う日を選択している。 | M11: FALSE
A12: 【２】発注者又は自主施工者の情報について
A13: ・ 法人の場合、１及び２に商号又は名称を、３及び４に肩書及び氏名を入力している。 ・ 個人の場合、３及び４に氏名を入力している。 | M13: FALSE
A14: 【３】工事の概要について
A15: ２ 工事の場所 ・ 工事の場所は、京都府内で京都市、宇治市以外の市町村を入力している。 | M15: FALSE
A16: ４ 請負・自主施工 ・ 請負契約による工事の場合、「請負」を選択している。 ・ 請負契約によらないで、自ら施工する場合は「自主施工」を選択している。 | L16: 請負 自主施工 | M16: FALSE
A17: ５ 特定建設資材への付着 アスベスト含有に関わらず、解体建築物等の特定建設資材（コンクリート、コンクリート及び鉄から成る建設資材、木材、 アスファルト・コンクリート）に付着物が
C18: ・ 無い場合、「無」を選択している。 ・ 有る場合、 ① 「有」を選択した後、 ② 「付着建材」には、特定建設資材に付着している建材を入力している。 | M18: FALSE
A19: ６ アスベストの有無 飛散・非飛散に関わらず、解体建築物等にアスベストが
C20: ・ 無い場合、「無」を選択している。 ・ 有る場合、 ① 「有」を選択した後、 ②※ そのアスベストが特定建設資材へ付着していた場合は「有」を、付着していない場合は「無」を選択し、 ③ そのアスベストのレベルを選択（アスベスト建材が複数ある場合は、発じん性が高いものを選択）し ④ アスベスト含有建材を入力している。 ※ 「５ 特定建設資材への付着」で、アスベストの付着物が「有」と回答した場合、②も必ず「有」となります。 | M20: FALSE
A21: ７ フロンの有無 解体等建築物にフロンが
C22: ・ 無い場合、「無」を選択している。 ・ 有る場合、 ① 「有」を選択した後、 ② フロンの種類を選択している。 | M22: FALSE
A23: 【４】元請業者の情報について（自主施工の場合は入力不要）
A24: ４ 許可番号（登録番号） ・ 建設業の許可を取得している場合は、「建設業の場合」をチェックし、必要事項を入力している。 ・ 解体工事業の登録を取得している場合は、「解体工事業の場合」をチェックし、必要事項を入力している。 | M24: FALSE
A25: ・ 許可番号（登録番号）について、有効期限が切れていないか確認している。 | M25: FALSE
A26: 【５】対象建設工事の元請業者から法第12条第1項の規定による説明を受けた年月日（自主施工の場合は入力不要）
A27: ・ 届出を行う前に、元請業者から発注者に対して工事の分別解体等の計画等について説明し、その説明を行った日を選択している。 | M27: FALSE
A28: 【６】工程について
A29: ・ 工事着手予定日と工事完了予定日は、添付図書の工程表と同じ日を選択している。 | M29: FALSE
A31: ３．電子申請専用ファイルの「別表」シートについて
A32: ・ 該当する別表に必要事項を入力している。 | M32: FALSE
A33: ・ 「別表２」または「別表３」シートは、シート上部にある「工種選択欄」をチェックしている。 | M33: FALSE
A34: ・ 「敷地境界との最短距離」及び「前面道路の幅員」の数値は、添付図書の配置図に記載されている数値と同じである。 | M34: FALSE
A35: ・ 「特定建設資材への付着物」「石綿」「フロン」は、「入力フォーム」シートと同様の回答をしている。 | M35: FALSE
A37: ４．添付図書について
A38: ・ 配置図は、敷地境界との最短距離及び前面道路の幅員を記入し、かつ、電子申請専用ファイルの「別表」に入力している数値と同 じである。 | M38: FALSE
A39: ・ 工程表は、実働日数だけでなく、工事着手予定日及び工事完了予定日を記載し、かつ、電子申請専用ファイルの「入力フォーム」 シートの【６】で選択している日付と同じである。 | M39: FALSE
A40: ・ 委任状（発注者の代理人が届出を行う場合のみ必要）は、委任日を記載している。 | M40: FALSE
A41: ・ 委任状（発注者の代理人が届出を行う場合のみ必要）の委任者と、電子申請専用ファイルの「入力フォーム」シート【２】の発注者等の 情報が同じである（法人の場合は商号又は名称及び代表者の氏名すべてが同じである）。 | M41: FALSE
A42: ・ 届出に必要な添付図書を、それぞれPDFファイル（カラー・400dpi以上）にしている。 | M42: FALSE
A43: ・ 作成したPDFファイルをひとつのzipファイル（２０MB以下）に圧縮している。 | M43: FALSE
A45: ６．京都府・市町村共同電子申請サービスについて
A46: ・ 連絡先のメールアドレスを正しく入力している。 | M46: FALSE

Sheet 入力フォーム
B1: 入力フォーム | O1: ※受付日 | S1: ※受付番号
B3: 【１】届出日（京都府・市町村共同電子申請サービスで申請する日を入力してください。） | AC3: ↓届出日関数 | AE3: ↓届出年関係のデータ
B4: 届出日 | R4: 年 | V4: 月 | Z4: 日 | AB4: =VLOOKUP(M4,AE4:AF18,2,0) -> #N/A | AC4: =DATE(AB4,S4,W4) -> #N/A | AE4: 平成30(2018) | AF4: 2018
AE5: 平成31(2019) | AF5: 2019
B6: 【２】発注者又は自主施工者の情報について | AE6: 令和元(2019) | AF6: 2019
B7: 1 | C7: 【法人の場合】商号又は名称 | AE7: 令和2(2020) | AF7: 2020
B8: 2 | C8: 【法人の場合】商号又は名称のﾌﾘｶﾞﾅ | AE8: 令和3(2021) | AF8: 2021
B9: 3 | C9: 【個人の場合】氏名 【法人の場合】肩書及び氏名 | AE9: 令和4(2022) | AF9: 2022
B10: 4 | C10: 【個人の場合】氏名のﾌﾘｶﾞﾅ 【法人の場合】肩書及び氏名のﾌﾘｶﾞﾅ | AE10: 令和5(2023) | AF10: 2023
B11: 5 | C11: 発注者等の住所等情報 | M11: 郵便番号 | T11: － | AE11: 令和6(2024) | AF11: 2024
M12: 住所 | AE12: 令和7(2025) | AF12: 2025
M13: 電話番号 | S13: － | W13: － | AE13: 令和8(2026) | AF13: 2026
B14: 6 | C14: 発注者等の 転居予定先等情報 | M14: 郵便番号 | T14: － | AE14: 令和9(2027) | AF14: 2027
M15: 住所 | AE15: 令和10(2028) | AF15: 2028
M16: 電話番号 | S16: － | W16: － | AE16: 令和11(2029) | AF16: 2029
AE17: 令和12(2030) | AF17: 2030
B18: 【３】工事の概要について | AE18: 令和13(2031) | AF18: 2031
B19: 1 | C19: 工事の名称
B20: 2 | C20: 工事の場所 | M20: 京都府
B21: 3 | C21: 工事の種類
E22: 建築物に係る解体工事 | M22: 用途 | T22: 構造
M23: 階数 | P23: 地上 | T23: 階 | V23: 地下 | Z23: 階 | AB23: FALSE
M24: 工事対象床面積の合計 | Z24: ㎡
E25: 建築物に係る新築又は増築の工事 | M25: 用途 | T25: 構造
M26: 階数 | P26: 地上 | T26: 階 | V26: 地下 | Z26: 階 | AB26: FALSE
M27: 工事対象床面積の合計 | Z27: ㎡
E28: 建築物に係る新築工事等であって新築又は増築の工事に該当しないもの | M28: 用途 | T28: 構造
M29: 階数 | P29: 地上 | T29: 階 | V29: 地下 | Z29: 階 | AB29: FALSE
M30: 請負代金 | Y30: 万円
E31: 建築物以外のものに係る 解体工事又は新築工事等 | M31: 工事の種類 | AB31: FALSE
M32: 請負代金 | Y32: 万円
B33: 4 | C33: 請負・自主施工の別
B34: 5 | C34: 特定建設資材への付着 | N34: 付着建材
B35: 6 | C35: 石綿の有無 | O35: 特定建設資材への付着 | V35: 石綿レベル
M36: 石綿含有建材
B37: 7 | C37: フロンの有無 | O37: フロン該当機器
B39: 【４】元請業者の情報について（自主施工の場合は入力不要。）
B40: 1 | C40: 元請業者の商号又は名称
C41: 元請業者の商号又は名称のﾌﾘｶﾞﾅ
B42: 2 | C42: 元請業者の肩書及び代表者の氏名
C43: 元請業者の肩書及び代表者の氏名のﾌﾘｶﾞﾅ
B44: 3 | C44: 元請業者の住所情報 | M44: 郵便番号 | T44: －
M45: 住所
M46: 電話番号 | S46: － | W46: －
B47: 4 | C47: 許可番号(登録番号）
P48: =IF(M48="国土交通","大臣",IF(M48<>"","知事","")) | R48: （ | T48: － | V48: ）第 | Z48: 号
E49: 建設業の場合 | M49: 許可業種 | Y49: 工事業 | AB49: FALSE
M50: 主任技術者（監理技術者）氏名
E51: 解体工事業の場合 | M51: 京都府知事 | P51: （登 | Q51: － | T51: ）第 | W51: － | Z51: 号 | AB51: FALSE
M52: 技術管理者氏名
B54: 【５】対象建設工事の元請業者から法第12条第１項の規定による説明を受けた年月日 （自主施工の場合は入力不要。）
B55: 説明年月日 | R55: 年 | V55: 月 | Z55: 日 | AB55: =VLOOKUP(M55,AE4:AF18,2,0) -> #N/A | AC55: =DATE(AB55,S55,W55) -> #N/A | AG55: =IF(AC4<AC55,"←要確認！【５】：届出日より後の日付が入力されています","") -> #N/A
B57: 【６】工程（電子申請の場合、工事に着手する日の７日前までに届け出てください。）
B58: 1 | C58: 工事着手予定日 | R58: 年 | V58: 月 | Z58: 日 | AB58: =VLOOKUP(M58,AE4:AF18,2,0) -> #N/A | AC58: =DATE(AB58,S58,W58) -> #N/A | AE58: =AC58-7 -> #N/A | AG58: =IF(AE58<AC4,"←要確認！【６】1：届出日から１週間未満の工事着手予定日です","") -> #N/A
B59: 2 | C59: 工事完了予定日 | R59: 年 | V59: 月 | Z59: 日 | AB59: =VLOOKUP(M59,AE4:AF18,2,0) -> #N/A | AC59: =DATE(AB59,S59,W59) -> #N/A | AG59: =IF(AC58>AC59,"←要確認！【６】2:工事着手予定日より前の日付です","") -> #N/A
C62: 提出前に、黄色セルが残っていないかご確認ください。
C63: 黄色セルがある場合は、入力してください（水色セルは残っていても構いません）。
C64: 様式第一号は「様式第一号（「入力フォーム」から自動転記されます）」シートに自動入力されておりますので、
C66: 必要な方は印刷してください。
C67: 続いて、次のシートを入力してください。
C68: 建築物に係る解体工事については、「別表１」シート
C69: 建築物に係る新築工事等については、「別表２」シート
C70: 建築物以外のものに係る解体工事又は新築工事等については、「別表３」シート

Sheet 様式第一号（「入力フォーム」から自動転記されます）
A1: （様式第一号） | AF1: （Ａ４）
A3: 届 出 書
A5: 京都府知事 様 | Z5: =IF(入力フォーム!M4=""," 年 月 日",入力フォーム!AC4) -> 年 月 日
F7: ﾌﾘｶﾞﾅ | U7: =IF(入力フォーム!M8<>"",入力フォーム!M8&" "&入力フォーム!M10,入力フォーム!M10) -> 0
A8: 発注者又は自主施工者の氏名（法人にあっては商号又は名称及び代表者の氏名） | U8: =IF(入力フォーム!M7<>"",入力フォーム!M7&" "&入力フォーム!M9,入力フォーム!M9) -> 0
I9: 郵便番号 | L9: （ | M9: {=INDIRECT("'入力フォーム'!p11")} -> 0 | N9: － | O9: {=INDIRECT("'入力フォーム'!u11")} -> 0 | Q9: ） 電話番号 | U9: {=INDIRECT("'入力フォーム'!p13")} -> 0 | W9: － | X9: {=INDIRECT("'入力フォーム'!t13")} -> 0 | Z9: － | AA9: {=INDIRECT("'入力フォーム'!x13")} -> 0
I10: 住所 | L10: =入力フォーム!P12 -> 0
G11: （転居予定先） | I11: 郵便番号 | L11: （ | M11: {=IF(入力フォーム!P14<>"",INDIRECT("'入力フォーム'!p14"),"")} | N11: － | O11: {=IF(入力フォーム!U14<>"",INDIRECT("'入力フォーム'!u14"),"")} | Q11: ） 電話番号 | U11: {=IF(入力フォーム!P16<>"",INDIRECT("'入力フォーム'!p16"),"")} | W11: － | X11: {=IF(入力フォーム!T16<>"",INDIRECT("'入力フォーム'!t16"),"")} | Z11: － | AA11: {=IF(入力フォーム!X16<>"",INDIRECT("'入力フォーム'!x16"),"")}
I12: 住所 | L12: =IF(入力フォーム!P15<>"",入力フォーム!P15,"")
A14: 建設工事に係る資材の再資源化等に関する法律第10条第1項の規定により、下記のとおり届け出ます。
A16: 記
A17: １．工事の概要
A18: ①工事の名称 | F18: =入力フォーム!M19 -> 0
A19: ②工事の場所 | F19: =IF(入力フォーム!O20="","京都府 ","京都府"&入力フォーム!O20) -> 京都府
A20: ③工事の種類及び規模
B21: =IF(入力フォーム!AB23=TRUE,"☑","□") -> □ | C21: 建築物に係る解体工事 | L21: 用途 | M21: =IF(入力フォーム!AB23=TRUE,入力フォーム!O22," ") | O21: 、階数 | Q21: =IF(入力フォーム!AB23=TRUE,"地上"&入力フォーム!R23&"階地下"&入力フォーム!X23&"階"," ") | U21: 、工事対象床面積の合計 | AB21: =IF(入力フォーム!AB23=TRUE,入力フォーム!S24," ") | AE21: ㎡
B22: =IF(入力フォーム!AB26=TRUE,"☑","□") -> □ | C22: 建築物に係る新築又は増築の工事 | L22: 用途 | M22: =IF(入力フォーム!AB26=TRUE,入力フォーム!O25," ") | O22: 、階数 | Q22: =IF(入力フォーム!AB26=TRUE,"地上"&入力フォーム!R26&"階地下"&入力フォーム!X26&"階"," ") | U22: 、工事対象床面積の合計 | AB22: =IF(入力フォーム!AB26=TRUE,入力フォーム!S27," ") | AE22: ㎡
B23: =IF(入力フォーム!AB29=TRUE,"☑","□") -> □ | C23: 建築物に係る新築工事等であって新築又は増築の工事に該当しないもの
H24: 用途 | I24: =IF(入力フォーム!AB29=TRUE,入力フォーム!O28," ") | M24: 、階数 | O24: =IF(入力フォーム!AB29=TRUE,"地上"&入力フォーム!R29&"階地下"&入力フォーム!X29&"階"," ") | S24: 、請負代金 | V24: =IF(入力フォーム!AB29=TRUE,入力フォーム!S30," ") | Z24: 万円
B25: =IF(入力フォーム!AB31=TRUE,"☑","□") -> □ | C25: 建築物以外のものに係る解体工事又は新築工事等 | S25: 請負代金 | V25: =IF(入力フォーム!AB31=TRUE,入力フォーム!S32," ") | Z25: 万円
A26: ④請負・自主施工の別 ： | I26: =IF(COUNTIF(入力フォーム!M33,"請負"),"☑請負","□請負") -> □請負 | M26: =IF(COUNTIF(入力フォーム!M33,"自主施工"),"☑自主施工","□自主施工") -> □自主施工
A28: ２．元請業者（請負契約によらないで自ら施工する場合は記載不要）
A29: ﾌﾘｶﾞﾅ | R29: =IF(入力フォーム!M33="請負",入力フォーム!M41&" "&入力フォーム!M43,"")
A30: ①氏名（法人にあっては商号又は名称及び代表者の氏名） | R30: =IF(入力フォーム!M33="請負",入力フォーム!M40&" "&入力フォーム!M42,"")
A31: （郵便番号 | E31: {=IF(入力フォーム!M33="請負",INDIRECT("'入力フォーム'!P44"),"")} | G31: － | H31: {=IF(入力フォーム!M33="請負",INDIRECT("'入力フォーム'!U44"),"")} | K31: ）電話番号 | N31: {=IF(入力フォーム!M33="請負",INDIRECT("'入力フォーム'!P46"),"")} | P31: － | Q31: {=IF(入力フォーム!M33="請負",INDIRECT("'入力フォーム'!T46"),"")} | S31: － | T31: {=IF(入力フォーム!M33="請負",INDIRECT("'入力フォーム'!x46"),"")}
A32: ②住所 | D32: =IF(入力フォーム!M33="請負",入力フォーム!P45,"")
A33: ③許可番号（登録番号）
B34: =IF(入力フォーム!AB49=TRUE,"☑","□") -> □ | C34: 建設業許可の場合
C35: 建設業許可 | H35: =IF(入力フォーム!AB49=TRUE,入力フォーム!M48,"") | J35: =IF(入力フォーム!AB49=TRUE,IF(COUNTIF(入力フォーム!P48,"大臣"),"☑大臣□知事","□大臣☑知事"),"□大臣□知事") -> □大臣□知事 | N35: =IF(入力フォーム!AB49=TRUE,"("&入力フォーム!S48&"-"&入力フォーム!U48&")","( － ）") -> ( － ） | P35: 第 | Q35: =IF(入力フォーム!AB49=TRUE,入力フォーム!W48,"") | S35: 号 | T35: （ | U35: =IF(入力フォーム!AB49=TRUE,入力フォーム!V49,"") | X35: 工事業）
C36: 主任技術者（監理技術者） | L36: 氏名 | N36: =IF(入力フォーム!AB49=TRUE,入力フォーム!T50,"")
B37: =IF(入力フォーム!AB51=TRUE,"☑","□") -> □ | C37: 解体工事業の場合
C38: 解体工事業登録 | J38: =IF(入力フォーム!AB51=TRUE,"京都府","") | L38: 知事 | N38: =IF(入力フォーム!AB51=TRUE,"（登－"&入力フォーム!R51&"）"&"第"&入力フォーム!U51&"-"&入力フォーム!X51,"") | S38: 号
C39: 技術管理者氏名 | J39: =IF(入力フォーム!AB51=TRUE,入力フォーム!Q52,"")
A41: ３．対象建設工事の元請業者から法第12条第１項の規定による説明を受けた年月日
A42: （請負契約によらないで自ら施工する場合は記載不要）
B43: =IF(入力フォーム!M33="請負",入力フォーム!AC55," 年 月 日") -> 年 月 日
A45: ４．分別解体等の計画等
A46: 建築物に係る解体工事については別表１
A47: 建築物に係る新築工事等については別表２
A48: 建築物以外のものに係る解体工事又は新築工事等については別表３
A49: により記載すること。
A51: ５．工程の概要
Q52: （工事着手予定日） | V52: =IF(入力フォーム!M58=""," 年 月 日",入力フォーム!AC58) -> 年 月 日
A53: 別紙のとおり | Q53: （工事完了予定日） | V53: =IF(入力フォーム!M59=""," 年 月 日",入力フォーム!AC59) -> 年 月 日
A54: （できるだけ図面、表等を利用することとし、記載することができないときは、「別紙のとおり」と記載し、別紙を添付すること。）
A55: （注意）
A56: １ □欄には、該当箇所に「レ」を付すこと。
A57: ２ 届出書には、対象建設工事に係る建築物等の設計図又は現状を示す明瞭な写真を添付すること。
A60: ※受付番号 | E60: =入力フォーム!V1 -> 0 | F60: =入力フォーム!X1 -> 0

Sheet 別表１
A3: 別表１ | AD3: （Ａ４）
Y4: 建築物に係る解体工事
A5: 分別解体等の計画等
A6: 建築物の構造 | J6: 木造 | N6: 鉄骨鉄筋コンクリート造 | V6: 鉄筋コンクリート造 | AF6: FALSE | AG6: FALSE | AH6: FALSE
J7: 鉄骨造 | N7: コンクリートブロック造 | V7: その他 | X7: （ | AE7: ） | AF7: FALSE | AG7: FALSE | AH7: FALSE
A8: 建築物に 関する調査の結果 | D8: 建築物の状況 | I8: 築年数 | N8: 年 | O8: 、 | P8: 棟数 | T8: 棟
I9: その他 | K9: （ | AE9: ）
D10: 周辺状況 | I10: 周辺にある施設 | N10: 住宅 | Q10: 商業施設 | U10: 学校 | X10: 病院 | AA10: その他（ | AE10: ） | AF10: FALSE | AG10: FALSE | AH10: FALSE | AI10: FALSE | AJ10: FALSE
I11: 敷地境界との最短距離 | P11: 約 | S11: ｍ
I12: その他 | K12: （ | AE12: ）
A13: 建築物に関する調査の結果及び工事着手前に実施する措置の内容 | I13: 建築物に関する調査の結果 | W13: 工事着手前に実施する措置の内容
D15: 作業場所 | I15: 作業場所 | M15: 十分 | Q15: 不十分 | AF15: FALSE | AG15: FALSE
I16: その他 | K16: （ | V16: ）
D17: 搬出経路 | I17: 障害物 | L17: 有 | M17: （ | S17: ） | V17: 無 | AF17: FALSE | AG17: FALSE
I18: 前面道路の幅員 | N18: 約 | Q18: ｍ
I19: 通学路 | L19: 有 | O19: 無 | AF19: FALSE | AG19: FALSE
I20: その他 | K20: （ | V20: ）
D21: 残存物品 | J21: 有 | K21: （ | V21: ） | AF21: FALSE
J22: 無 | AF22: FALSE
D23: 特定建設資材への付着物 | J23: 有 | K23: （ | V23: ） | AF23: FALSE
J24: 無 | AF24: FALSE
D25: 他法令関係 | F25: 石綿 （大気汚染防止法・安全衛生法石綿則） | J25: 有 | AF25: FALSE
I26: 特定建設資材への付着（ | Q26: 有 | U26: 無 | V26: ） | AF26: FALSE | AG26: FALSE
J27: 無 | AF27: FALSE
F29: フロン（フロン排出抑制法） | J29: 有（業務用のエアコン・冷凍冷蔵機器のうちフロ | AF29: FALSE
J30: ン類が使われているもの）
J31: 無 | AF31: FALSE
D32: その他 | W32: 近隣挨拶
A34: 工程ごとの作業内容及び解体方法 | B34: 工程 | N34: 作業内容 | Y34: 分別解体等の方法
B35: ①建築設備・内装材等 | N35: 建築設備･内装材等の取り外し | Z35: 手作業
O36: 有 | R36: 無 | Z36: 手作業・機械作業の併用 | AF36: FALSE | AG36: FALSE | AH36: FALSE | AI36: FALSE
Y37: 併用の場合の理由( | AE37: )
B38: ②屋根ふき材 | N38: 屋根ふき材の取り外し | Z38: 手作業
O39: 有 | R39: 無 | Z39: 手作業・機械作業の併用 | AF39: FALSE | AG39: FALSE | AH39: FALSE | AI39: FALSE
Y40: 併用の場合の理由( | AE40: )
B41: ③外装材・上部構造部分 | N41: 外装材・上部構造部分の取り壊し | Z41: 手作業
O42: 有 | R42: 無 | Z42: 手作業・機械作業の併用 | AF42: FALSE | AG42: FALSE | AH42: FALSE | AI42: FALSE
B43: ④基礎・基礎ぐい | N43: 基礎・基礎ぐいの取り壊し | Z43: 手作業
O44: 有 | R44: 無 | Z44: 手作業・機械作業の併用 | AF44: FALSE | AG44: FALSE | AH44: FALSE | AI44: FALSE
B45: ⑤その他 | N45: その他の取り壊し | Z45: 手作業
B46: （ | M46: ） | O46: 有 | R46: 無 | Z46: 手作業・機械作業の併用 | AF46: FALSE | AG46: FALSE | AH46: FALSE | AI46: FALSE
A47: 工事の工程の順序 | N47: =IF(AND(AF36=TRUE,AF39=TRUE,AF42=TRUE,AF44=TRUE,AG46=TRUE),"☑","□") -> □ | O47: 上の工程における①→②→③→④の順序
N48: =IF(N47="□","☑","□") -> ☑ | O48: その他（ | AE48: ）
N49: その他の場合の理由（ | AE49: ）
E50: 内装材に木材が含まれる場合 | N50: ①の工程における木材の分別に支障となる建設資材の事前の取り外し
O51: 可 | R51: 不可 | AF51: FALSE | AG51: FALSE
N52: 不可の場合の理由（ | AE52: ）
A53: 建築物に用いられた建設資材の量の見込み | X53: トン
A54: 廃棄物発生見込量 | B54: 特定建設資材廃棄物の種類ごとの量の見込み及びその発生が見込まれる建築物の部分 | N54: 種類 | T54: 量の見込み | Y54: 発生が見込まれる部分（注）
O55: コンクリート塊 | Z55: ① | AB55: ② | AD55: ③ | AF55: FALSE
X56: トン | Z56: ④ | AB56: ⑤ | AF56: FALSE | AG56: FALSE | AH56: FALSE | AI56: FALSE | AJ56: FALSE
O57: ｱｽﾌｧﾙﾄ･ｺﾝｸﾘｰﾄ塊 | Z57: ① | AB57: ② | AD57: ③ | AF57: FALSE
X58: トン | Z58: ④ | AB58: ⑤ | AF58: FALSE | AG58: FALSE | AH58: FALSE | AI58: FALSE | AJ58: FALSE
O59: 建設発生木材 | Z59: ① | AB59: ② | AD59: ③ | AF59: FALSE
X60: トン | Z60: ④ | AB60: ⑤ | AF60: FALSE | AG60: FALSE | AH60: FALSE | AI60: FALSE | AJ60: FALSE
B61: （注） ①建築設備・内装材等 ②屋根ふき材 ③外装材・上部構造部分 ④基礎・基礎ぐい ⑤その他
A62: 備考
A64: □欄には、該当箇所に「レ」を付すこと。

Sheet 別表２
I3: FALSE | L3: FALSE | O3: FALSE
A6: 別表2 | AD6: （Ａ４）
P7: 建築物に係る新築工事等（新築・増築・修繕・模様替）
A8: 分別解体等の計画等
A9: 使用する特定建設 資材の種類 | L9: コンクリート | Q9: コンクリート及び鉄から成る建設資材 | AF9: FALSE | AG9: FALSE
L10: アスファルト・コンクリート | U10: 木材 | AF10: FALSE | AG10: FALSE
A11: 建築物に 関する調査の結果 | D11: 建築物の状況 | K11: 築年数 | P11: 年 | Q11: 、 | R11: 棟数 | V11: 棟
K12: その他 | M12: （ | AE12: ）
D13: 周辺状況 | K13: 周辺にある施設 | Q13: 住宅 | U13: 商業施設 | AA13: 学校 | AF13: FALSE | AG13: FALSE | AH13: FALSE | AI13: FALSE | AJ13: FALSE
Q14: 病院 | U14: その他（ | AE14: ）
K15: 敷地境界との最短距離 | R15: 約 | U15: ｍ
K16: その他 | M16: （ | AE16: ）
A17: 建築物に関する調査の結果及び工事着手前に実施する措置の内容 | K17: 建築物に関する調査の結果 | W17: 工事着手前に実施する措置の内容
D19: 作業場所 | K19: 作業場所 | O19: 十分 | S19: 不十分 | AF19: FALSE | AG19: FALSE
K20: その他 | M20: （ | V20: ）
D22: 搬出経路 | K22: 障害物 | N22: 有 | O22: （ | T22: ) | V22: 無 | AF22: FALSE | AG22: FALSE
K23: 前面道路の幅員 | P23: 約 | S23: ｍ
K24: 通学路 | N24: 有 | Q24: 無 | AF24: FALSE | AG24: FALSE
K25: その他 | M25: （ | V25: ）
D26: 特定建設資材への付着物 （修繕・模様替工事のみ） | L26: 有（ | V26: ） | AF26: FALSE
L28: 無 | AF28: FALSE
D29: 他法令関係(修繕・模様替工事のみ) | F29: 石綿 (大気汚染防止法・安全衛生法石綿則) | L29: 有 | AF29: FALSE
K30: 特定建設資材への付着（ | S30: 有 | V30: 無) | AF30: FALSE | AG30: FALSE
L31: 無 | AF31: FALSE
F32: フロン（フロン排出抑制法） | L32: 有（業務用のエアコン・冷凍冷蔵機器の | AF32: FALSE
L33: うちフロン類が使われているもの）
L34: 無 | AF34: FALSE
D35: その他 | W35: 近隣挨拶
A37: 工程ごとの作業内容 | B37: 工程 | M37: 作業内容
B38: ①造成等 | M38: 造成等の工事 | R38: 有 | U38: 無 | AF38: FALSE | AG38: FALSE
B40: ②基礎・基礎ぐい | M40: 基礎・基礎ぐいの工事 | T40: 有 | W40: 無 | AF40: FALSE | AG40: FALSE
B42: ③上部構造部分・外装 | M42: 上部構造部分・外装の工事 | V42: 有 | Y42: 無 | AF42: FALSE | AG42: FALSE
B44: ④屋根 | M44: 屋根の工事 | R44: 有 | U44: 無 | AF44: FALSE | AG44: FALSE
B46: ⑤建築設備・内装等 | M46: 建築設備・内装等の工事 | U46: 有 | X46: 無 | AF46: FALSE | AG46: FALSE
B48: ⑥その他 | M48: その他の工事 | R48: 有 | U48: 無 | AF48: FALSE | AG48: FALSE
B49: （ | L49: ）
A50: 廃棄物発生見込量 | B50: 特定建設資材廃棄物の種類ごとの量の見込み並びに特定建設資材が使用される建築部分及び特定建設資材廃棄物の発生が見込まれる建築物の部分 | M50: 種類 | S50: 量の見込 | Y50: 使用する部分又は発生が見込まれる部分（注）
N51: コンクリート塊 | Z51: ① | AB51: ② | AD51: ③ | AF51: FALSE
X52: トン | Z52: ④ | AB52: ⑤ | AD52: ⑥ | AF52: FALSE | AG52: FALSE | AH52: FALSE | AI52: FALSE | AJ52: FALSE | AK52: FALSE
N53: ｱｽﾌｧﾙﾄ･ｺﾝｸﾘｰﾄ塊 | Z53: ① | AB53: ② | AD53: ③ | AF53: FALSE
X54: トン | Z54: ④ | AB54: ⑤ | AD54: ⑥ | AF54: FALSE | AG54: FALSE | AH54: FALSE | AI54: FALSE | AJ54: FALSE | AK54: FALSE
N55: 建設発生木材 | Z55: ① | AB55: ② | AD55: ③ | AF55: FALSE
X56: トン | Z56: ④ | AB56: ⑤ | AD56: ⑥ | AF56: FALSE | AG56: FALSE | AH56: FALSE | AI56: FALSE | AJ56: FALSE | AK56: FALSE
B57: （注） ①造成等 ②基礎 ③上部構造部分・外装 ④屋根 ⑤建築設備・内装 ⑥その他
A58: 備考
A60: □欄には、該当箇所に「レ」を付すこと。

Sheet 別表3
J2: 新築工事 | O2: 維持・修繕工事 | U2: 解体工事
I3: FALSE | N3: FALSE | T3: FALSE
A6: 別表３ | AD6: （Ａ４）
L7: 建築物以外のものに係る解体工事又は新築工事等（土木工事等）
A8: 分別解体等の計画等
A9: 工作物の構造 （解体工事のみ） | L9: 鉄筋コンクリート造 | S9: その他（ | AE9: ） | AF9: FALSE | AG9: FALSE
A11: 工事の種類 | K11: =IF(I3=TRUE,"☑","□") -> □ | L11: 新築工事 | P11: =IF(N3=TRUE,"☑","□") -> □ | Q11: 維持・修繕工事 | V11: =IF(T3=TRUE,"☑","□") -> □ | W11: 解体工事
L12: 電気 | O12: 水道 | R12: ガス | U12: 下水道 | Y12: 鉄道 | AB12: 電話 | AF12: FALSE | AG12: FALSE | AH12: FALSE | AI12: FALSE | AJ12: FALSE | AK12: FALSE
L13: その他 | N13: （ | AE13: ） | AF13: FALSE
A14: 使用する特定建設資材の種類 （新築・維持・修繕工事のみ） | L14: コンクリート | Q14: コンクリート及び鉄から成る建設資材 | AF14: FALSE | AG14: FALSE
L15: アスファルト・コンクリート | T15: 木材 | AF15: FALSE | AG15: FALSE
A16: 工作物に関する調査の結果 | D16: 工作物の状況 | K16: 築年数 | P16: 年 | AG16: FALSE
K17: その他 | M17: （ | AE17: ）
D18: 周辺状況 | K18: 周辺にある施設 | Q18: 住宅 | U18: 商業施設 | Z18: 学校 | AF18: FALSE | AG18: FALSE | AH18: FALSE
O19: 病院 | R19: その他 | T19: （ | AE19: ） | AF19: FALSE | AG19: FALSE
K20: 敷地境界との最短距離 | R20: 約 | U20: ｍ
K21: その他 | M21: （ | AE21: ）
A22: 工作物に関する調査の結果及び工事着手前に実施する措置の内容 | K22: 工作物に関する調査の結果 | W22: 工事着手前に実施する措置の内容
D24: 作業場所 | K24: 作業場所 | O24: 十分 | S24: 不十分 | AF24: FALSE | AG24: FALSE
K25: その他 | M25: （ | V25: ）
D26: 搬出経路 | K26: 障害物 | N26: 有 | O26: （ | T26: ) | V26: 無 | AF26: FALSE | AG26: FALSE
K27: 前面道路の幅員 | P27: 約 | S27: ｍ
K28: 通学路 | N28: 有 | Q28: 無 | AF28: FALSE | AG28: FALSE
K29: その他 | M29: （ | V29: ）
D30: 特定建設資材への付着物 （解体・修繕・模様替工事のみ） | L30: 有 | AF30: FALSE
K31: （ | V31: ）
L32: 無 | AF32: FALSE
D33: 他法令関係（解体・維持・修繕工事のみ） | H33: 石綿 （大気汚染防止法・安全衛生法石綿則） | L33: 有 | AF33: FALSE
K34: 特定建設資材への付着（ | S34: 有 | V34: 無) | AF34: FALSE | AG34: FALSE
L35: 無 | AF35: FALSE
D37: その他 | W37: 近隣挨拶
A39: 工程ごとの作業内容及び解体方法 | B39: 工程 | M39: 作業内容 | Y39: 分別解体等の方法
Y40: （解体工事のみ）
B41: ①仮設 | M41: 仮設工事 | R41: 有 | U41: 無 | Z41: 手作業 | AF41: FALSE | AG41: FALSE
Z42: 手作業・機械作業の併用 | AF42: FALSE | AG42: FALSE
B43: ②土工 | M43: 土工事 | R43: 有 | U43: 無 | Z43: 手作業 | AF43: FALSE | AG43: FALSE
Z44: 手作業・機械作業の併用 | AF44: FALSE | AG44: FALSE
B45: ③基礎 | M45: 基礎工事 | R45: 有 | U45: 無 | Z45: 手作業 | AF45: FALSE | AG45: FALSE
Z46: 手作業・機械作業の併用 | AF46: FALSE | AG46: FALSE
B47: ④本体構造 | M47: 本体構造の工事 | S47: 有 | V47: 無 | Z47: 手作業 | AF47: FALSE | AG47: FALSE
Z48: 手作業・機械作業の併用 | AF48: FALSE | AG48: FALSE
B49: ⑤本体付属品 | M49: 本体付属品の工事 | T49: 有 | W49: 無 | Z49: 手作業 | AF49: FALSE | AG49: FALSE
Z50: 手作業・機械作業の併用 | AF50: FALSE | AG50: FALSE
B51: ⑥その他 | M51: その他の工事 | S51: 有 | V51: 無 | Z51: 手作業 | AF51: FALSE | AG51: FALSE
B52: （ | L52: ） | Z52: 手作業・機械作業の併用 | AF52: FALSE | AG52: FALSE
A53: 工事の工程の順序 （解体工事のみ） | N53: 上の工程における⑤→④→③の順序 | AF53: FALSE
N54: その他（ | AE54: ） | AF54: FALSE
M55: その他の場合の理由（ | AE55: ）
A56: 工作物に用いられた建設資材の量の見込み（解体工事のみ）
X57: トン
A58: 廃棄物発生見込量 | B58: 特定建設資材廃棄物の種類ごとの量の見込み（全工事）並びに特定建設資材が使用される工作物の部分（新築・維持・修繕工事のみ）及び特定建設資材廃棄物の発生が見込まれる建築物の部分（維持・修繕・解体工事のみ） | M58: 種類 | S58: 量の見込み | Y58: 使用する部分又は発生が見込まれる部分（注）
N60: コンクリート塊 | Z60: ① | AB60: ② | AD60: ③ | AF60: FALSE
X61: トン | Z61: ④ | AB61: ⑤ | AD61: ⑥ | AF61: FALSE | AG61: FALSE | AH61: FALSE | AI61: FALSE | AJ61: FALSE | AK61: FALSE
N62: ｱｽﾌｧﾙﾄ･ｺﾝｸﾘｰﾄ塊 | Z62: ① | AB62: ② | AD62: ③ | AF62: FALSE
X63: トン | Z63: ④ | AB63: ⑤ | AD63: ⑥ | AF63: FALSE | AG63: FALSE | AH63: FALSE | AI63: FALSE | AJ63: FALSE | AK63: FALSE
N64: 建設発生木材 | Z64: ① | AB64: ② | AD64: ③ | AF64: FALSE
X65: トン | Z65: ④ | AB65: ⑤ | AD65: ⑥ | AF65: FALSE | AG65: FALSE | AH65: FALSE | AI65: FALSE | AJ65: FALSE | AK65: FALSE
B66: （注） ①仮設 ②土工 ③基礎 ④本体構造 ⑤本体付属品 ⑥その他
A67: 備考
A69: □欄には、該当箇所に「レ」を付すこと。

Sheet 届出済シール
A1: 届出完了のお知らせ
A2: 【工事場所】 | C2: ="京都府"&入力フォーム!O20 -> 京都府
A4: 上記の工事場所に係る、建設リサイクル法第１０条第１項に基づく届出については、次のとおり
A5: 受け付けました。
A7: 【届出日】 | C7: =入力フォーム!P1 -> 0
A8: 【受付番号】 | C8: =入力フォーム!V1 -> 0
A12: 建設業許可票又は解体工事業者登録票の標識に届出済シールを貼付する場合は左下の
A13: テンプレートをご利用ください。
A15: （シール発行方法）
A16: ① 本データをA4用紙に印刷し、左側のテンプレートを切り取ってください。
A17: ※ A4用紙以外の大きさで印刷されますと、大きさが異なる可能性があります。
A19: ② 標識に貼付してください。
A20: ※ 水に濡れても剥がれ落ちないように、透明テープで全面貼付又はラミネート加工することを
A21: 勧めます。
A23: 【届出済シールテンプレート】（印刷用）
H31: 届出済シールの貼付位置（例）
