Workbook

Sheet 入力フォーム
A1: 入力フォーム | R1: ※受付日 | V1: ※受付番号 | AH1: 2021 | AI1: 3
B2: 変更箇所にチェックしてください(複数選択可)↓ | AE2: 元届出書受付番号の年度に関するデータ→ | AH2: 2022 | AI2: 4
E3: 【１】元の届出書の情報について | AF3: ↓元届出日関数 | AH3: 2023 | AI3: 5
E4: 届出日 | U4: 年 | Y4: 月 | AC4: 日 | AE4: =VLOOKUP(P4,AH19:AI32,2,FALSE) -> #N/A | AF4: =DATE(AE4,V4,Z4) -> #N/A | AH4: 2024 | AI4: 6
E5: 受付番号 | AE5: =IF(MONTH(AF4)<=3, YEAR(AF4)-1, YEAR(AF4)) -> #N/A | AF5: ←元届出年度 | AH5: 2025 | AI5: 7
AH6: 2026 | AI6: 8
E7: 【２】変更届出日（京都府・市町村共同電子申請サービスで申請する日を入力してください。） | AF7: ↓変更届出日関数 | AH7: 2027 | AI7: 9
E8: 変更届出日 | U8: 年 | Y8: 月 | AC8: 日 | AE8: =VLOOKUP(P8,AH19:AI32,2,0) -> #N/A | AF8: =DATE(AE8,V8,Z8) -> #N/A | AH8: 2028 | AI8: 10
AH9: 2029 | AI9: 11
E10: 【３】発注者又は自主施工者の情報について | AH10: 2030 | AI10: 12
D11: FALSE | E11: 1 | F11: 【法人の場合】商号又は名称 | AH11: 2031 | AI11: 13
E12: 2 | F12: 【法人の場合】商号又は名称のﾌﾘｶﾞﾅ
E13: 3 | F13: 【個人の場合】氏名 【法人の場合】肩書及び氏名
E14: 4 | F14: 【個人の場合】氏名のﾌﾘｶﾞﾅ 【法人の場合】肩書及び氏名のﾌﾘｶﾞﾅ
D15: FALSE | E15: 5 | F15: 発注者等の住所等情報 | P15: 郵便番号 | W15: －
P16: 住所
P17: 電話番号 | V17: － | Z17: －
D18: FALSE | E18: 6 | F18: 発注者等の 転居予定先等情報 | P18: 郵便番号 | W18: － | AH18: ↓届出年関係のデータ
P19: 住所 | AH19: 平成30(2018) | AI19: 2018
P20: 電話番号 | V20: － | Z20: － | AH20: 平成31(2019) | AI20: 2019
AH21: 令和元(2019) | AI21: 2019
E22: 【４】工事の概要について | AH22: 令和2(2020) | AI22: 2020
D23: FALSE | E23: 1 | F23: 工事の名称 | AH23: 令和3(2021) | AI23: 2021
E24: 2 | F24: 工事の場所 | P24: 京都府 | AH24: 令和4(2022) | AI24: 2022
D25: FALSE | E25: 3 | F25: 工事の種類 | AH25: 令和6(2024) | AI25: 2024
H26: 建築物に係る解体工事 | P26: 用途 | W26: 構造 | AH26: 令和7(2025) | AI26: 2025
P27: 階数 | S27: 地上 | W27: 階 | Y27: 地下 | AC27: 階 | AE27: FALSE | AH27: 令和8(2026) | AI27: 2026
P28: 工事対象床面積の合計 | AC28: ㎡ | AH28: 令和9(2027) | AI28: 2027
H29: 建築物に係る新築又は増築の工事 | P29: 用途 | W29: 構造 | AH29: 令和10(2028) | AI29: 2028
P30: 階数 | S30: 地上 | W30: 階 | Y30: 地下 | AC30: 階 | AE30: FALSE | AH30: 令和11(2029) | AI30: 2029
P31: 工事対象床面積の合計 | AC31: ㎡ | AH31: 令和12(2030) | AI31: 2030
H32: 建築物に係る新築工事等であって新築又は増築の工事に該当しないもの | P32: 用途 | W32: 構造 | AH32: 令和13(2031) | AI32: 2031 | AJ32: 変更箇所にチェックしてください（複数選択可）。
P33: 階数 | S33: 地上 | W33: 階 | Y33: 地下 | AC33: 階 | AE33: FALSE
P34: 請負代金 | AB34: 万円
H35: 建築物以外のものに係る 解体工事又は新築工事等 | P35: 工事の種類 | AE35: FALSE
P36: 請負代金 | AB36: 万円
D37: FALSE | E37: 4 | F37: 請負・自主施工の別
D38: FALSE | E38: 5 | F38: 特定建設資材への付着 | Q38: 付着建材
E39: 6 | F39: 石綿の有無 | R39: 特定建設資材への付着 | Y39: 石綿レベル
P40: 石綿含有建材
...

Sheet 様式第二号（「入力フォーム」から自動転記されます）
A1: （様式第二号） | AH1: （Ａ４）
C3: 変 更 届 出 書
A4: 変更
A5: 箇所 | AB5: =IF(入力フォーム!P8=""," 年 月 日",入力フォーム!AF8) -> 年 月 日
C6: 京都府知事 様
H8: ﾌﾘｶﾞﾅ | W8: =IF(入力フォーム!P12<>"",入力フォーム!P12&" "&入力フォーム!P14,入力フォーム!P14) -> 0
A9: =IF(入力フォーム!D11=TRUE,"☑","□") -> □ | C9: 発注者又は自主施工者の氏名（法人にあっては商号又は名称及び代表者の氏名） | W9: =IF(入力フォーム!P11<>"",入力フォーム!P11&" "&入力フォーム!P13,入力フォーム!P13) -> 0
K10: 郵便番号 | N10: （ | O10: {=INDIRECT("'入力フォーム'!s15")} -> 0 | P10: － | Q10: {=INDIRECT("'入力フォーム'!x15")} -> 0 | S10: ） 電話番号 | W10: {=INDIRECT("'入力フォーム'!s17")} -> 0 | Y10: － | Z10: {=INDIRECT("'入力フォーム'!w17")} -> 0 | AB10: － | AC10: {=INDIRECT("'入力フォーム'!aa17")} -> 0
A11: =IF(入力フォーム!D15=TRUE,"☑","□") -> □ | K11: 住所 | N11: =入力フォーム!S16 -> 0
I12: （転居予定先） | K12: 郵便番号 | N12: （ | O12: {=IF(入力フォーム!S18<>"",INDIRECT("'入力フォーム'!s18"),"")} | P12: － | Q12: {=IF(入力フォーム!X18<>"",INDIRECT("'入力フォーム'!x18"),"")} | S12: ） 電話番号 | W12: {=IF(入力フォーム!S20<>"",INDIRECT("'入力フォーム'!s20"),"")} | Y12: － | Z12: {=IF(入力フォーム!W20<>"",INDIRECT("'入力フォーム'!w20"),"")} | AB12: － | AC12: {=IF(入力フォーム!AA20<>"",INDIRECT("'入力フォーム'!aa20"),"")}
A13: =IF(入力フォーム!D18=TRUE,"☑","□") -> □ | K13: 住所 | N13: =IF(入力フォーム!S19<>"",入力フォーム!S19,"")
C15: 建設工事に係る資材の再資源化等に関する法律第10条第２項の規定により、下記のとおり変更を届け出ます。
C17: 記
C18: １．工事の概要
C19: ①工事の名称 | H19: =入力フォーム!P23 -> 0
C20: ②工事の場所 | H20: =IF(入力フォーム!R24="","京都府 ","京都府"&入力フォーム!R24) -> 京都府
A21: =IF(入力フォーム!D25=TRUE,"☑","□") -> □ | C21: ③工事の種類及び規模
D22: =IF(入力フォーム!AE27=TRUE,"☑","□") -> □ | E22: 建築物に係る解体工事 | N22: 用途 | O22: =IF(入力フォーム!AE27=TRUE,入力フォーム!R26," ") | Q22: 、階数 | S22: =IF(入力フォーム!AE27=TRUE,"地上"&入力フォーム!U27&"階地下"&入力フォーム!AA27&"階"," ") | W22: 、工事対象床面積の合計 | AD22: =IF(入力フォーム!AE27=TRUE,入力フォーム!V28," ") | AG22: ㎡
D23: =IF(入力フォーム!AE30=TRUE,"☑","□") -> □ | E23: 建築物に係る新築又は増築の工事 | N23: 用途 | O23: =IF(入力フォーム!AE30=TRUE,入力フォーム!R29," ") | Q23: 、階数 | S23: =IF(入力フォーム!AE30=TRUE,"地上"&入力フォーム!U30&"階地下"&入力フォーム!AA30&"階"," ") | W23: 、工事対象床面積の合計 | AD23: =IF(入力フォーム!AE30=TRUE,入力フォーム!V31," ") | AG23: ㎡
D24: =IF(入力フォーム!AE33=TRUE,"☑","□") -> □ | E24: 建築物に係る新築工事等であって新築又は増築の工事に該当しないもの
J25: 用途 | K25: =IF(入力フォーム!AE33=TRUE,入力フォーム!R32," ") | O25: 、階数 | Q25: =IF(入力フォーム!AE33=TRUE,"地上"&入力フォーム!U33&"階地下"&入力フォーム!AA33&"階"," ") | U25: 、請負代金 | X25: =IF(入力フォーム!AE33=TRUE,入力フォーム!V34," ") | AB25: 万円
D26: =IF(入力フォーム!AE35=TRUE,"☑","□") -> □ | E26: 建築物以外のものに係る解体工事又は新築工事等 | U26: 請負代金 | X26: =IF(入力フォーム!AE35=TRUE,入力フォーム!V36," ") | AB26: 万円
A27: =IF(入力フォーム!D37=TRUE,"☑","□") -> □ | C27: ④請負・自主施工の別 ： | K27: =IF(COUNTIF(入力フォーム!P37,"請負"),"☑請負","□請負") -> □請負 | O27: =IF(COUNTIF(入力フォーム!P37,"自主施工"),"☑自主施工","□自主施工") -> □自主施工
C29: ２．元請業者（請負契約によらないで自ら施工する場合は記載不要）
C30: ﾌﾘｶﾞﾅ | T30: =IF(入力フォーム!P37="請負",入力フォーム!P45&" "&入力フォーム!P47,"")
A31: =IF(入力フォーム!D44=TRUE,"☑","□") -> □ | C31: ①氏名（法人にあっては商号又は名称及び代表者の氏名） | T31: =IF(入力フォーム!P37="請負",入力フォーム!P44&" "&入力フォーム!P46,"")
C32: （郵便番号 | G32: {=IF(入力フォーム!P37="請負",INDIRECT("'入力フォーム'!s48"),"")} | I32: － | J32: {=IF(入力フォーム!P37="請負",INDIRECT("'入力フォーム'!x48"),"")} | M32: ）電話番号 | P32: {=IF(入力フォーム!P37="請負",INDIRECT("'入力フォーム'!s50"),"")} | R32: － | S32: {=IF(入力フォーム!P37="請負",INDIRECT("'入力フォーム'!w50"),"")} | U32: － | V32: {=IF(入力フォーム!P37="請負",INDIRECT("'入力フォーム'!aa50"),"")}
A33: =IF(入力フォーム!D48=TRUE,"☑","□") -> □ | C33: ②住所 | F33: =IF(入力フォーム!P37="請負",入力フォーム!S49,"")
A34: =IF(入力フォーム!D51=TRUE,"☑","□") -> □ | C34: ③許可番号（登録番号）
D35: =IF(入力フォーム!AE53=TRUE,"☑","□") -> □ | E35: 建設業許可の場合
E36: 建設業許可 | J36: =IF(入力フォーム!AE53=TRUE,入力フォーム!P52,"") | L36: =IF(入力フォーム!AE53=TRUE,IF(COUNTIF(入力フォーム!S52,"大臣"),"☑大臣□知事","□大臣☑知事"),"□大臣□知事") -> □大臣□知事 | P36: =IF(入力フォーム!AE53=TRUE,"("&入力フォーム!V52&"-"&入力フォーム!X52&")","( － ）") -> ( － ） | R36: 第 | S36: =IF(入力フォーム!AE53=TRUE,入力フォーム!Z52,"") | U36: 号 | V36: （ | W36: =IF(入力フォーム!AE53=TRUE,入力フォーム!Y53,"") | Z36: 工事業）
E37: 主任技術者（監理技術者） | N37: 氏名 | P37: =IF(入力フォーム!AE53=TRUE,入力フォーム!W54,"")
D38: =IF(入力フォーム!AE55=TRUE,"☑","□") -> □ | E38: 解体工事業の場合
E39: 解体工事業登録 | L39: =IF(入力フォーム!AE55=TRUE,"京都府","") | N39: 知事 | P39: =IF(入力フォーム!AE55=TRUE,"（登－"&入力フォーム!U55&"）"&"第"&入力フォーム!X55&"-"&入力フォーム!AA55,"") | U39: 号
E40: 技術管理者氏名 | L40: =IF(入力フォーム!AE55=TRUE,入力フォーム!T56,"")
A42: =IF(入力フォーム!D59=TRUE,"☑","□") -> □ | C42: ３．対象建設工事の元請業者から法第12条第１項の規定による説明を受けた年月日
C43: （請負契約によらないで自ら施工する場合は記載不要）
D44: =IF(入力フォーム!P37="請負",入力フォーム!AF59," 年 月 日") -> 年 月 日
A46: =IF(OR(入力フォーム!AE67=TRUE,入力フォーム!AE68=TRUE,入力フォーム!AE69=TRUE),"☑","□") -> □ | C46: ４．分別解体等の計画等
C47: 建築物に係る解体工事については別表１
...

Sheet 別表１
C3: 別表１ | AJ3: （Ａ４）
AE4: 建築物に係る解体工事
C5: 変更 箇所 | E5: 分別解体等の計画等
E6: 建築物の構造 | Q6: 木造 | U6: 鉄骨鉄筋コンクリート造 | AC6: 鉄筋コンクリート造 | AL6: FALSE | AM6: FALSE | AN6: FALSE
Q7: 鉄骨造 | U7: コンクリートブロック造 | AC7: その他（ | AK7: ) | AL7: FALSE | AM7: FALSE | AN7: FALSE
B8: FALSE | E8: 建築物 に関す る調査 の結果 | H8: 建築物の状況 | P8: 築年数 | U8: 年 | V8: 、 | W8: 棟数 | AA8: 棟
P9: その他（ | AK9: ）
B10: FALSE | H10: 周辺状況 | P10: 周辺にある施設 | V10: 住宅 | Y10: 商業施設 | AC10: 学校 | AL10: FALSE | AM10: FALSE | AN10: FALSE | AO10: FALSE | AP10: FALSE
T11: 病院 | W11: その他（ | AK11: ）
P12: 敷地境界との最短距離 | W12: 約 | Z12: ｍ
P13: その他（ | AK13: ）
E14: 建築物に関する調査の結果及び工事着手前に実施する措置の内容 | P14: 建築物に関する調査の結果 | AB14: 工事着手前に実施する措置の内容
B16: FALSE | H16: 作業場所 | P16: 作業場所 | U16: 十分 | X16: 不十分 | AL16: FALSE | AM16: FALSE
P17: その他（ | AA17: ）
B18: FALSE | H18: 搬出経路 | P18: 障害物 | T18: 有（ | Y18: ） | AA18: 無 | AL18: FALSE | AM18: FALSE
P19: 前面道路の幅員 | U19: 約 | X19: ｍ
P20: 通学路 | T20: 有 | W20: 無 | AL20: FALSE | AM20: FALSE
P21: その他（ | AA21: ）
B22: FALSE | H22: 残存物品 | Q22: 有 | AL22: FALSE
P23: （ | AA23: ）
Q24: 無 | AL24: FALSE
B25: FALSE | H25: 特定建設資材への付着物 | Q25: 有 | AL25: FALSE
P26: （ | AA26: ）
Q27: 無 | AL27: FALSE
B28: FALSE | H28: 他法令関係 | J28: 石綿 （大気汚染防止法・安全衛生法石綿則） | Q28: 有 | AL28: FALSE
P29: 特定建設資材への付着（ | X29: 有 | AA29: 無） | AL29: FALSE | AM29: FALSE
Q30: 無 | AL30: FALSE
J31: フロン（フロン排出抑制法） | Q31: 有（業務用のエアコン・冷凍冷蔵機器の | AL31: FALSE
Q32: うちフロン類が使われているもの）
Q33: 無 | AL33: FALSE
B34: FALSE | H34: その他 | AB34: 近隣挨拶
E36: 工程ごとの作業内容及び解体方法 | F36: 工程 | R36: 作業内容 | AE36: 分別解体等の方法
B37: FALSE | F37: ①建築設備・内装材等 | R37: 建築設備･内装材等の取り外し | AF37: 手作業
S38: 有 | V38: 無 | AF38: 手作業・機械作業の併用 | AL38: FALSE | AM38: FALSE | AN38: FALSE | AO38: FALSE
AE39: 併用の場合の理由( | AK39: )
B40: FALSE | F40: ②屋根ふき材 | R40: 屋根ふき材の取り外し | AF40: 手作業
S41: 有 | V41: 無 | AF41: 手作業・機械作業の併用 | AL41: FALSE | AM41: FALSE | AN41: FALSE | AO41: FALSE
AE42: 併用の場合の理由( | AK42: )
B43: FALSE | F43: ③外装材・上部構造部分 | R43: 外装材・上部構造部分の取り壊し | AF43: 手作業
S44: 有 | V44: 無 | AF44: 手作業・機械作業の併用 | AL44: FALSE | AM44: FALSE | AN44: FALSE | AO44: FALSE
...

Sheet 別表２
M3: FALSE | P3: FALSE | S3: FALSE
C6: 別表2 | AH6: （Ａ４）
T7: 建築物に係る新築工事等（新築・増築・修繕・模様替）
C8: 変更 箇所 | E8: 分別解体等の計画等
B9: FALSE | E9: 使用する特定建設 資材の種類 | P9: コンクリート | U9: コンクリート及び鉄から成る建設資材 | AJ9: FALSE | AK9: FALSE
P10: アスファルト・コンクリート | Y10: 木材 | AJ10: FALSE | AK10: FALSE
B11: FALSE | E11: 建築物に 関する調査の結果 | H11: 建築物の状況 | O11: 築年数 | T11: 年 | U11: 、 | V11: 棟数 | Z11: 棟
O12: その他 | Q12: （ | AI12: ）
B13: FALSE | H13: 周辺状況 | O13: 周辺にある施設 | U13: 住宅 | Y13: 商業施設 | AE13: 学校 | AJ13: FALSE | AK13: FALSE | AL13: FALSE | AM13: FALSE | AN13: FALSE
U14: 病院 | Y14: その他（ | AI14: ）
O15: 敷地境界との最短距離 | V15: 約 | Y15: ｍ
O16: その他 | Q16: （ | AI16: ）
E17: 建築物に関する調査の結果及び工事着手前に実施する措置の内容 | O17: 建築物に関する調査の結果 | AA17: 工事着手前に実施する措置の内容
B19: FALSE | H19: 作業場所 | O19: 作業場所 | S19: 十分 | W19: 不十分 | AJ19: FALSE | AK19: FALSE
O20: その他 | Q20: （ | Z20: ）
B22: FALSE | H22: 搬出経路 | O22: 障害物 | R22: 有 | S22: （ | X22: ) | Z22: 無 | AJ22: FALSE | AK22: FALSE
O23: 前面道路の幅員 | T23: 約 | W23: ｍ
O24: 通学路 | R24: 有 | U24: 無 | AJ24: FALSE | AK24: FALSE
O25: その他 | Q25: （ | Z25: ）
B26: FALSE | H26: 特定建設資材への付着物（修繕・模様替工事のみ） | P26: 有 | AJ26: FALSE
O27: （ | Z27: ）
P28: 無 | AJ28: FALSE
B29: FALSE | H29: 他法令関係(修繕・模様替工事のみ) | J29: 石綿 (大気汚染防止法・安全衛生法石綿則) | P29: 有 | AJ29: FALSE
O30: 特定建設資材への付着（ | W30: 有 | Z30: 無) | AJ30: FALSE | AK30: FALSE
P31: 無 | AJ31: FALSE
J32: フロン（フロン排出抑制法） | P32: 有（業務用のエアコン・冷凍冷蔵機器の | AJ32: FALSE
P33: うちフロン類が使われているもの）
P34: 無 | AJ34: FALSE
B35: FALSE | H35: その他 | AA35: 近隣挨拶
E37: 工程ごとの作業内容 | F37: 工程 | Q37: 作業内容
B38: FALSE | F38: ①造成等 | Q38: 造成等の工事 | V38: 有 | Y38: 無 | AJ38: FALSE | AK38: FALSE
B40: FALSE | F40: ②基礎・基礎ぐい | Q40: 基礎・基礎ぐいの工事 | X40: 有 | AA40: 無 | AJ40: FALSE | AK40: FALSE
B42: FALSE | F42: ③上部構造部分・外装 | Q42: 上部構造部分・外装の工事 | Z42: 有 | AC42: 無 | AJ42: FALSE | AK42: FALSE
B44: FALSE | F44: ④屋根 | Q44: 屋根の工事 | V44: 有 | Y44: 無 | AJ44: FALSE | AK44: FALSE
B46: FALSE | F46: ⑤建築設備・内装等 | Q46: 建築設備・内装等の工事 | Y46: 有 | AB46: 無 | AJ46: FALSE | AK46: FALSE
B48: FALSE | F48: ⑥その他 | Q48: その他の工事 | V48: 有 | Y48: 無 | AJ48: FALSE | AK48: FALSE
F49: （ | P49: ）
E50: 廃棄物発生見込量 | F50: 特定建設資材廃棄物の種類ごとの量の見込み並びに特定建設資材が使用される建築部分及び特定建設資材廃棄物の発生が見込まれる建築物の部分 | Q50: 種類 | W50: 量の見込 | AC50: 使用する部分又は発生が見込まれる部分（注）
B51: FALSE | R51: コンクリート塊 | AD51: ① | AF51: ② | AH51: ③ | AJ51: FALSE
AB52: トン | AD52: ④ | AF52: ⑤ | AH52: ⑥ | AJ52: FALSE | AK52: FALSE | AL52: FALSE | AM52: FALSE | AN52: FALSE | AO52: FALSE
...

Sheet 別表3
N2: 新築工事 | S2: 維持・修繕工事 | Y2: 解体工事
M3: FALSE | R3: FALSE | X3: FALSE
C6: 別表３ | AH6: （Ａ４）
P7: 建築物以外のものに係る解体工事又は新築工事等（土木工事等）
C8: 変更 箇所 | E8: 分別解体等の計画等
E9: 工作物の構造 （解体工事のみ） | P9: 鉄筋コンクリート造 | W9: その他（ | AI9: ） | AJ9: FALSE | AK9: FALSE
B11: FALSE | E11: 工事の種類 | O11: =IF(M3=TRUE,"☑","□") -> □ | P11: 新築工事 | T11: =IF(R3=TRUE,"☑","□") -> □ | U11: 維持・修繕工事 | Z11: =IF(X3=TRUE,"☑","□") -> □ | AA11: 解体工事
P12: 電気 | S12: 水道 | V12: ガス | Y12: 下水道 | AC12: 鉄道 | AF12: 電話 | AJ12: FALSE | AK12: FALSE | AL12: FALSE | AM12: FALSE | AN12: FALSE | AO12: FALSE
P13: その他 | R13: （ | AI13: ） | AJ13: FALSE
B14: FALSE | E14: 使用する特定建設資材の種類 （新築・維持・修繕工事のみ） | P14: コンクリート | U14: コンクリート及び鉄から成る建設資材 | AJ14: FALSE | AK14: FALSE
P15: アスファルト・コンクリート | X15: 木材 | AJ15: FALSE | AK15: FALSE
B16: FALSE | E16: 工作物に関する調査の結果 | H16: 工作物の状況 | O16: 築年数 | T16: 年 | AK16: FALSE
O17: その他 | Q17: （ | AI17: ）
B18: FALSE | H18: 周辺状況 | O18: 周辺にある施設 | U18: 住宅 | Y18: 商業施設 | AD18: 学校 | AJ18: FALSE | AK18: FALSE | AL18: FALSE
S19: 病院 | V19: その他 | X19: （ | AI19: ） | AJ19: FALSE | AK19: FALSE
O20: 敷地境界との最短距離 | V20: 約 | Y20: ｍ
O21: その他 | Q21: （ | AI21: ）
E22: 工作物に関する調査の結果及び工事着手前に実施する措置の内容 | O22: 工作物に関する調査の結果 | AA22: 工事着手前に実施する措置の内容
B24: FALSE | H24: 作業場所 | O24: 作業場所 | S24: 十分 | W24: 不十分 | AJ24: FALSE | AK24: FALSE
O25: その他 | Q25: （ | Z25: ）
B26: FALSE | H26: 搬出経路 | O26: 障害物 | R26: 有 | S26: （ | X26: ) | Z26: 無 | AJ26: FALSE | AK26: FALSE
O27: 前面道路の幅員 | T27: 約 | W27: ｍ
O28: 通学路 | R28: 有 | U28: 無 | AJ28: FALSE | AK28: FALSE
O29: その他 | Q29: （ | Z29: ）
B30: FALSE | H30: 特定建設資材への付着物 （解体・修繕・模様替工事のみ） | P30: 有 | AJ30: FALSE
O31: （ | Z31: ）
P32: 無 | AJ32: FALSE
B33: FALSE | H33: 他法令関係（解体・維持・修繕工事のみ） | K33: 石綿 （大気汚染防止法・安全衛生法石綿則） | P33: 有 | AJ33: FALSE
O34: 特定建設資材への付着（ | W34: 有 | Z34: 無) | AJ34: FALSE | AK34: FALSE
P35: 無 | AJ35: FALSE
B37: FALSE | H37: その他 | AA37: 近隣挨拶
E39: 工程ごとの作業内容及び解体方法 | F39: 工程 | Q39: 作業内容 | AC39: 分別解体等の方法
AC40: （解体工事のみ）
B41: FALSE | F41: ①仮設 | Q41: 仮設工事 | V41: 有 | Y41: 無 | AD41: 手作業 | AJ41: FALSE | AK41: FALSE
AD42: 手作業・機械作業の併用 | AJ42: FALSE | AK42: FALSE
B43: FALSE | F43: ②土工 | Q43: 土工事 | V43: 有 | Y43: 無 | AD43: 手作業 | AJ43: FALSE | AK43: FALSE
AD44: 手作業・機械作業の併用 | AJ44: FALSE | AK44: FALSE
B45: FALSE | F45: ③基礎 | Q45: 基礎工事 | V45: 有 | Y45: 無 | AD45: 手作業 | AJ45: FALSE | AK45: FALSE
AD46: 手作業・機械作業の併用 | AJ46: FALSE | AK46: FALSE
B47: FALSE | F47: ④本体構造 | Q47: 本体構造の工事 | W47: 有 | Z47: 無 | AD47: 手作業 | AJ47: FALSE | AK47: FALSE
...

Sheet 届出済シール
A1: 変更届出完了のお知らせ
A2: 【工事場所】 | C2: ="京都府"&入力フォーム!R24 -> 京都府
A4: 上記の工事場所に係る、建設リサイクル法第１０条第２項に基づく変更届出については、
A5: 次のとおり受け付けました。
A7: 【届出日】 | C7: =入力フォーム!S1 -> 0
A8: 【受付番号】 | C8: =入力フォーム!Y1 -> 0
A11: 建設業許可票又は解体工事業者登録票の標識に届出済シールを貼付する場合は左下の テンプレートをご利用ください。
A12: 元の届出に係る届出済シールは使用しないでください。
A15: （シール発行方法）
A16: ① 本データをA4用紙に印刷し、左側のテンプレートを切り取ってください。
A17: ※ A4用紙以外の大きさで印刷されますと、大きさが異なる可能性があります。
A19: ② 標識に貼付してください。
A20: ※ 水に濡れても剥がれ落ちないように、透明テープで全面貼付又はラミネート加工することを
A21: 勧めます。
A23: 【届出済シールテンプレート】（印刷用）
G31: 届出済シールの貼付位置（例）
